{
 "version": 1.0,
 "tileBundlesPath": "./tile",
 "storageInfo": {
  "packetSize": 128,
  "storageFormat": "esriMapCacheStorageModeCompactV2"
 },
 "tileImageInfo": {
  "format": "PNG",
  "compressionQuality": 0,
  "bandCount": 1,
  "lercError": 0
 },
 "tileInfo": {
  "spatialReference": {
   "wkid": 3844,
   "latestWkid": 3844
  },
  "origin": {
   "x": -30221900,
   "y": 31204100
  },
  "rows": 256,
  "cols": 256,
  "dpi": 96,
  "lods": [
   {
    "level": 0,
    "resolution": 33.86673440013547,
    "scale": 128000
   },
   {
    "level": 1,
    "resolution": 16.933367200067735,
    "scale": 64000
   },
   {
    "level": 2,
    "resolution": 8.466683600033868,
    "scale": 32000
   },
   {
    "level": 3,
    "resolution": 4.233341800016934,
    "scale": 16000
   },
   {
    "level": 4,
    "resolution": 2.116670900008467,
    "scale": 8000
   },
   {
    "level": 5,
    "resolution": 1.0583354500042335,
    "scale": 4000
   },
   {
    "level": 6,
    "resolution": 0.5291677250021167,
    "scale": 2000
   }
  ],
  "format": "PNG",
  "compressionQuality": 0,
  "bandCount": 1,
  "lercError": 0,
  "storageFormat": "esriMapCacheStorageModeCompactV2",
  "packetSize": 128
 },
 "name": "OrtoJimbolia11",
 "serviceDescription": "",
 "spatialReference": {
  "wkid": 3844,
  "latestWkid": 3844,
  "xyTolerance": 0.001,
  "zTolerance": 0.001,
  "mTolerance": 0.001,
  "falseX": -30221900,
  "falseY": -30261600,
  "xyUnits": 10000,
  "falseZ": -100000,
  "zUnits": 10000,
  "falseM": -100000,
  "mUnits": 10000
 },
 "units": "esriMeters",
 "minLOD": 0,
 "resampling": true,
 "layers": [
  {
   "id": 0,
   "name": "Orasul Jimbolia.ecw",
   "parentLayerId": -1,
   "defaultVisibility": true,
   "subLayerIds": null,
   "minScale": 0,
   "maxScale": 0,
   "type": "Raster Layer",
   "supportsDynamicLegends": true,
   "legend": [
    {
     "label": "Red: Band #0",
     "imageData": "iVBORw0KGgoAAAANSUhEUgAAABQAAAAUCAYAAACNiR0NAAAACXBIWXMAAA7EAAAOxAGVKw4bAAAAMUlEQVQ4jWNhoDJgoZmB/xkY/lNiECMDAyOKgdQCowaOGjhq4KiBdDYQVp5RzUBqAQBgfwJTXu298gAAAABJRU5ErkJggg==",
     "contentType": "image/png",
     "height": 20,
     "width": 20,
     "layerId": 0,
     "layerName": "Orasul Jimbolia.ecw"
    },
    {
     "label": "Green: Band #1",
     "imageData": "iVBORw0KGgoAAAANSUhEUgAAABQAAAAUCAYAAACNiR0NAAAACXBIWXMAAA7EAAAOxAGVKw4bAAAAL0lEQVQ4jWNhoDJgoZ2B/xn+U2QSIwMjqoFUAqMGjho4auCogfQ2EFqeUc9AKgEAX34CUy+sLnAAAAAASUVORK5CYII=",
     "contentType": "image/png",
     "height": 20,
     "width": 20,
     "layerId": 0,
     "layerName": "Orasul Jimbolia.ecw"
    },
    {
     "label": "Blue: Band #2",
     "imageData": "iVBORw0KGgoAAAANSUhEUgAAABQAAAAUCAYAAACNiR0NAAAACXBIWXMAAA7EAAAOxAGVKw4bAAAALUlEQVQ4jWNhoDJgoaGB//9TZhQjI5qB1AGjBo4aOGrgqIF0NxBSnlHRQOoAAF59AlNvIrzVAAAAAElFTkSuQmCC",
     "contentType": "image/png",
     "height": 20,
     "width": 20,
     "layerId": 0,
     "layerName": "Orasul Jimbolia.ecw"
    }
   ],
   "layerId": 0,
   "layerName": "Orasul Jimbolia.ecw",
   "serviceItemId": "9f32c231be4143699d6b51337ca392ec"
  }
 ],
 "initialExtent": {
  "xmin": 162232.86439999932,
  "ymin": 481150.8187000013,
  "xmax": 179232.86439999932,
  "ymax": 491650.8187000013,
  "spatialReference": {
   "wkid": 3844,
   "latestWkid": 3844,
   "xyTolerance": 0.001,
   "zTolerance": 0.001,
   "mTolerance": 0.001,
   "falseX": -30221900,
   "falseY": -30261600,
   "xyUnits": 10000,
   "falseZ": -100000,
   "zUnits": 10000,
   "falseM": -100000,
   "mUnits": 10000
  }
 },
 "fullExtent": {
  "xmin": 162232.86439999932,
  "ymin": 481150.8187000013,
  "xmax": 179232.86439999932,
  "ymax": 491650.8187000013,
  "spatialReference": {
   "wkid": 3844,
   "latestWkid": 3844,
   "xyTolerance": 0.001,
   "zTolerance": 0.001,
   "mTolerance": 0.001,
   "falseX": -30221900,
   "falseY": -30261600,
   "xyUnits": 10000,
   "falseZ": -100000,
   "zUnits": 10000,
   "falseM": -100000,
   "mUnits": 10000
  }
 },
 "maxLOD": 6,
 "minScale": 0,
 "maxScale": 0,
 "exportTilesAllowed": false,
 "maxExportTilesCount": 0,
 "currentVersion": 11.0,
 "mapName": "OrtoJimbolia11",
 "singleFusedMapCache": true,
 "type": "MapServer",
 "supportedExtensions": "",
 "capabilities": "TilesOnly,Tilemap",
 "serviceItemId": "9f32c231be4143699d6b51337ca392ec"
}
