{
 "version": 1.0,
 "tileBundlesPath": "./tile",
 "storageInfo": {
  "packetSize": 128,
  "storageFormat": "esriMapCacheStorageModeCompactV2"
 },
 "tileImageInfo": {
  "format": "PNG",
  "compressionQuality": 0,
  "bandCount": 1,
  "lercError": 0
 },
 "tileInfo": {
  "spatialReference": {
   "wkid": 3844,
   "latestWkid": 3844
  },
  "origin": {
   "x": -30221900,
   "y": 31204100
  },
  "rows": 256,
  "cols": 256,
  "dpi": 96,
  "lods": [
   {
    "level": 0,
    "resolution": 33.86673440013547,
    "scale": 128000
   },
   {
    "level": 1,
    "resolution": 16.933367200067735,
    "scale": 64000
   },
   {
    "level": 2,
    "resolution": 8.466683600033868,
    "scale": 32000
   },
   {
    "level": 3,
    "resolution": 4.233341800016934,
    "scale": 16000
   },
   {
    "level": 4,
    "resolution": 2.116670900008467,
    "scale": 8000
   },
   {
    "level": 5,
    "resolution": 1.0583354500042335,
    "scale": 4000
   },
   {
    "level": 6,
    "resolution": 0.5291677250021167,
    "scale": 2000
   },
   {
    "level": 7,
    "resolution": 0.26458386250105836,
    "scale": 1000
   },
   {
    "level": 8,
    "resolution": 0.13229193125052918,
    "scale": 500
   }
  ],
  "format": "PNG",
  "compressionQuality": 0,
  "bandCount": 1,
  "lercError": 0,
  "storageFormat": "esriMapCacheStorageModeCompactV2",
  "packetSize": 128
 },
 "name": "Map",
 "serviceDescription": "",
 "spatialReference": {
  "wkid": 3844,
  "latestWkid": 3844,
  "xyTolerance": 0.001,
  "zTolerance": 0.001,
  "mTolerance": 0.001,
  "falseX": -30221900,
  "falseY": -30261600,
  "xyUnits": 10000,
  "falseZ": -100000,
  "zUnits": 10000,
  "falseM": -100000,
  "mUnits": 10000
 },
 "units": "esriMeters",
 "minLOD": 0,
 "maxLOD": 8,
 "resampling": true,
 "layers": [
  {
   "id": 0,
   "name": "orto.ecw",
   "parentLayerId": -1,
   "defaultVisibility": true,
   "subLayerIds": null,
   "minScale": 0,
   "maxScale": 0,
   "type": "Raster Layer",
   "supportsDynamicLegends": true,
   "legend": [
    {
     "label": "Red: Red",
     "imageData": "iVBORw0KGgoAAAANSUhEUgAAABQAAAAUCAYAAACNiR0NAAAACXBIWXMAAA7EAAAOxAGVKw4bAAAAOklEQVQ4jWNhoDJgoZmB/8GIfMAIRrR0IbUAC9VMgoJRAykHLFQwAwWMGkg5YBnBBjJCyzOqGUgtAABgfwJTnasaYgAAAABJRU5ErkJggg==",
     "contentType": "image/png",
     "groupId": "0",
     "height": 20,
     "width": 20,
     "layerId": 0,
     "layerName": "orto.ecw"
    },
    {
     "label": "Green: Green",
     "imageData": "iVBORw0KGgoAAAANSUhEUgAAABQAAAAUCAYAAACNiR0NAAAACXBIWXMAAA7EAAAOxAGVKw4bAAAAPElEQVQ4je3UoQ0AMBBCUS5h/5WvpkmDhjr+AE8gIMLxH7hYSxqMgqFY0I4+oRX0Y8CQCvq9De+f5cBQB19+AlPZl25RAAAAAElFTkSuQmCC",
     "contentType": "image/png",
     "groupId": "0",
     "height": 20,
     "width": 20,
     "layerId": 0,
     "layerName": "orto.ecw"
    },
    {
     "label": "Blue: Blue",
     "imageData": "iVBORw0KGgoAAAANSUhEUgAAABQAAAAUCAYAAACNiR0NAAAACXBIWXMAAA7EAAAOxAGVKw4bAAAAPElEQVQ4jWNhoDJgoaGB//9TZhQjI5qB1AEsowZSDFgoNwIVjBpIOWChghkoYNRAygFSGELKMyoaSB0AAF59AlO8NYpcAAAAAElFTkSuQmCC",
     "contentType": "image/png",
     "groupId": "0",
     "height": 20,
     "width": 20,
     "layerId": 0,
     "layerName": "orto.ecw"
    }
   ],
   "layerId": 0,
   "layerName": "orto.ecw",
   "serviceItemId": "64b1005b0e21453fb45c4d42aa7a2fc8"
  },
  {
   "id": 1,
   "name": "ortofotoplanhategintravilan.ecw",
   "parentLayerId": -1,
   "defaultVisibility": true,
   "subLayerIds": null,
   "minScale": 0,
   "maxScale": 0,
   "type": "Raster Layer",
   "supportsDynamicLegends": true,
   "legend": [
    {
     "label": "Red: Band #0",
     "imageData": "iVBORw0KGgoAAAANSUhEUgAAABQAAAAUCAYAAACNiR0NAAAACXBIWXMAAA7EAAAOxAGVKw4bAAAAOklEQVQ4jWNhoDJgoZmB/8GIfMAIRrR0IbUAC9VMgoJRAykHLFQwAwWMGkg5YBnBBjJCyzOqGUgtAABgfwJTnasaYgAAAABJRU5ErkJggg==",
     "contentType": "image/png",
     "groupId": "0",
     "height": 20,
     "width": 20,
     "layerId": 1,
     "layerName": "ortofotoplanhategintravilan.ecw"
    },
    {
     "label": "Green: Band #1",
     "imageData": "iVBORw0KGgoAAAANSUhEUgAAABQAAAAUCAYAAACNiR0NAAAACXBIWXMAAA7EAAAOxAGVKw4bAAAAPElEQVQ4je3UoQ0AMBBCUS5h/5WvpkmDhjr+AE8gIMLxH7hYSxqMgqFY0I4+oRX0Y8CQCvq9De+f5cBQB19+AlPZl25RAAAAAElFTkSuQmCC",
     "contentType": "image/png",
     "groupId": "0",
     "height": 20,
     "width": 20,
     "layerId": 1,
     "layerName": "ortofotoplanhategintravilan.ecw"
    },
    {
     "label": "Blue: Band #2",
     "imageData": "iVBORw0KGgoAAAANSUhEUgAAABQAAAAUCAYAAACNiR0NAAAACXBIWXMAAA7EAAAOxAGVKw4bAAAAPElEQVQ4jWNhoDJgoaGB//9TZhQjI5qB1AEsowZSDFgoNwIVjBpIOWChghkoYNRAygFSGELKMyoaSB0AAF59AlO8NYpcAAAAAElFTkSuQmCC",
     "contentType": "image/png",
     "groupId": "0",
     "height": 20,
     "width": 20,
     "layerId": 1,
     "layerName": "ortofotoplanhategintravilan.ecw"
    }
   ],
   "layerId": 1,
   "layerName": "ortofotoplanhategintravilan.ecw",
   "serviceItemId": "64b1005b0e21453fb45c4d42aa7a2fc8"
  }
 ],
 "initialExtent": {
  "xmin": 334415.75,
  "ymin": 456058.371,
  "xmax": 341773.013,
  "ymax": 463929.36843489605,
  "spatialReference": {
   "wkid": 3844,
   "latestWkid": 3844
  }
 },
 "fullExtent": {
  "xmin": 334415.75,
  "ymin": 456058.371,
  "xmax": 341773.013,
  "ymax": 463929.36843489605,
  "spatialReference": {
   "wkid": 3844,
   "latestWkid": 3844
  }
 },
 "minScale": 0,
 "maxScale": 0,
 "exportTilesAllowed": false,
 "maxExportTilesCount": 0,
 "currentVersion": 11.0,
 "mapName": "Map",
 "singleFusedMapCache": true,
 "type": "MapServer",
 "supportedExtensions": "",
 "capabilities": "TilesOnly,Tilemap",
 "serviceItemId": "64b1005b0e21453fb45c4d42aa7a2fc8"
}
