{
 "version": 1.0,
 "tileBundlesPath": "./tile",
 "storageInfo": {
  "packetSize": 128,
  "storageFormat": "esriMapCacheStorageModeCompactV2"
 },
 "tileImageInfo": {
  "format": "PNG",
  "compressionQuality": 0,
  "bandCount": 1,
  "lercError": 0
 },
 "tileInfo": {
  "spatialReference": {
   "wkid": 31700,
   "latestWkid": 31700
  },
  "origin": {
   "x": -30221900,
   "y": 31204100
  },
  "rows": 512,
  "cols": 512,
  "dpi": 96,
  "lods": [
   {
    "level": 0,
    "resolution": 33.86673440013547,
    "scale": 128000
   },
   {
    "level": 1,
    "resolution": 16.933367200067735,
    "scale": 64000
   },
   {
    "level": 2,
    "resolution": 8.466683600033868,
    "scale": 32000
   },
   {
    "level": 3,
    "resolution": 4.233341800016934,
    "scale": 16000
   },
   {
    "level": 4,
    "resolution": 2.116670900008467,
    "scale": 8000
   },
   {
    "level": 5,
    "resolution": 1.0583354500042335,
    "scale": 4000
   },
   {
    "level": 6,
    "resolution": 0.5291677250021167,
    "scale": 2000
   },
   {
    "level": 7,
    "resolution": 0.26458386250105836,
    "scale": 1000
   },
   {
    "level": 8,
    "resolution": 0.13229193125052918,
    "scale": 500
   }
  ],
  "format": "PNG",
  "compressionQuality": 0,
  "bandCount": 1,
  "lercError": 0,
  "storageFormat": "esriMapCacheStorageModeCompactV2",
  "packetSize": 128
 },
 "name": "Map1",
 "serviceDescription": "",
 "spatialReference": {
  "wkt2": "COMPOUNDCRS[\"\",PROJCRS[\"Stereo_70\",BASEGEOGCRS[\"GCS_Dealul_Piscului_1970\",DATUM[\"D_Dealul_Piscului_1970\",ELLIPSOID[\"Krasovsky_1940\",6378245.0,298.3,LENGTHUNIT[\"Meter\",1.0]]],PRIMEM[\"Greenwich\",0.0,ANGLEUNIT[\"Degree\",0.0174532925199433]],CS[ellipsoidal,2],AXIS[\"Latitude (lat)\",north,ORDER[1]],AXIS[\"Longitude (lon)\",east,ORDER[2]],ANGLEUNIT[\"Degree\",0.0174532925199433]],CONVERSION[\"Double_Stereographic\",METHOD[\"Double_Stereographic\"],PARAMETER[\"False_Easting\",500000.0,LENGTHUNIT[\"Meter\",1.0]],PARAMETER[\"False_Northing\",500000.0,LENGTHUNIT[\"Meter\",1.0]],PARAMETER[\"Central_Meridian\",25.0,ANGLEUNIT[\"Degree\",0.0174532925199433]],PARAMETER[\"Scale_Factor\",0.99975,SCALEUNIT[\"Unity\",1.0]],PARAMETER[\"Latitude_Of_Origin\",46.0,ANGLEUNIT[\"Degree\",0.0174532925199433]]],CS[Cartesian,2],AXIS[\"Northing (Y)\",north,ORDER[1]],AXIS[\"Easting (X)\",east,ORDER[2]],LENGTHUNIT[\"Meter\",1.0]],VERTCRS[\"unknown\",VDATUM[\"unknown\"],CS[vertical,1],AXIS[\"Gravity-related height (H)\",up,LENGTHUNIT[\"Meter\",1.0]]]]",
  "wkt": "PROJCS[\"Stereo_70\",GEOGCS[\"GCS_Dealul_Piscului_1970\",DATUM[\"D_Dealul_Piscului_1970\",SPHEROID[\"Krasovsky_1940\",6378245.0,298.3]],PRIMEM[\"Greenwich\",0.0],UNIT[\"Degree\",0.0174532925199433]],PROJECTION[\"Double_Stereographic\"],PARAMETER[\"False_Easting\",500000.0],PARAMETER[\"False_Northing\",500000.0],PARAMETER[\"Central_Meridian\",25.0],PARAMETER[\"Scale_Factor\",0.99975],PARAMETER[\"Latitude_Of_Origin\",46.0],UNIT[\"Meter\",1.0]],VERTCS[\"unknown\",VDATUM[\"unknown\"],PARAMETER[\"Vertical_Shift\",0.0],PARAMETER[\"Direction\",1.0],UNIT[\"Meter\",1.0]]",
  "xyTolerance": 0.001,
  "zTolerance": 0.001,
  "mTolerance": 0.001,
  "falseX": -30221900,
  "falseY": -30261600,
  "xyUnits": 10000,
  "falseZ": -100000,
  "zUnits": 10000,
  "falseM": -100000,
  "mUnits": 10000
 },
 "units": "esriMeters",
 "minLOD": 0,
 "maxLOD": 8,
 "resampling": true,
 "layers": [
  {
   "id": 0,
   "name": "2 (1).tif",
   "parentLayerId": -1,
   "defaultVisibility": true,
   "subLayerIds": null,
   "minScale": 0,
   "maxScale": 0,
   "type": "Raster Layer",
   "supportsDynamicLegends": true,
   "legend": [
    {
     "label": "Red: Band_1",
     "imageData": "iVBORw0KGgoAAAANSUhEUgAAABQAAAAUCAYAAACNiR0NAAAACXBIWXMAAA7EAAAOxAGVKw4bAAAAOklEQVQ4jWNhoDJgoZmB/8GIfMAIRrR0IbUAC9VMgoJRAykHLFQwAwWMGkg5YBnBBjJCyzOqGUgtAABgfwJTnasaYgAAAABJRU5ErkJggg==",
     "contentType": "image/png",
     "groupId": "0",
     "height": 20,
     "width": 20,
     "layerId": 0,
     "layerName": "2 (1).tif"
    },
    {
     "label": "Green: Band_2",
     "imageData": "iVBORw0KGgoAAAANSUhEUgAAABQAAAAUCAYAAACNiR0NAAAACXBIWXMAAA7EAAAOxAGVKw4bAAAAPElEQVQ4je3UoQ0AMBBCUS5h/5WvpkmDhjr+AE8gIMLxH7hYSxqMgqFY0I4+oRX0Y8CQCvq9De+f5cBQB19+AlPZl25RAAAAAElFTkSuQmCC",
     "contentType": "image/png",
     "groupId": "0",
     "height": 20,
     "width": 20,
     "layerId": 0,
     "layerName": "2 (1).tif"
    },
    {
     "label": "Blue: Band_3",
     "imageData": "iVBORw0KGgoAAAANSUhEUgAAABQAAAAUCAYAAACNiR0NAAAACXBIWXMAAA7EAAAOxAGVKw4bAAAAPElEQVQ4jWNhoDJgoaGB//9TZhQjI5qB1AEsowZSDFgoNwIVjBpIOWChghkoYNRAygFSGELKMyoaSB0AAF59AlO8NYpcAAAAAElFTkSuQmCC",
     "contentType": "image/png",
     "groupId": "0",
     "height": 20,
     "width": 20,
     "layerId": 0,
     "layerName": "2 (1).tif"
    }
   ],
   "layerId": 0,
   "layerName": "2 (1).tif",
   "serviceItemId": "d3935d0f69c543bebd96b4dc7dac47ce"
  },
  {
   "id": 1,
   "name": "2 (2).tif",
   "parentLayerId": -1,
   "defaultVisibility": true,
   "subLayerIds": null,
   "minScale": 0,
   "maxScale": 0,
   "type": "Raster Layer",
   "supportsDynamicLegends": true,
   "legend": [
    {
     "label": "Red: Band_1",
     "imageData": "iVBORw0KGgoAAAANSUhEUgAAABQAAAAUCAYAAACNiR0NAAAACXBIWXMAAA7EAAAOxAGVKw4bAAAAOklEQVQ4jWNhoDJgoZmB/8GIfMAIRrR0IbUAC9VMgoJRAykHLFQwAwWMGkg5YBnBBjJCyzOqGUgtAABgfwJTnasaYgAAAABJRU5ErkJggg==",
     "contentType": "image/png",
     "groupId": "0",
     "height": 20,
     "width": 20,
     "layerId": 1,
     "layerName": "2 (2).tif"
    },
    {
     "label": "Green: Band_2",
     "imageData": "iVBORw0KGgoAAAANSUhEUgAAABQAAAAUCAYAAACNiR0NAAAACXBIWXMAAA7EAAAOxAGVKw4bAAAAPElEQVQ4je3UoQ0AMBBCUS5h/5WvpkmDhjr+AE8gIMLxH7hYSxqMgqFY0I4+oRX0Y8CQCvq9De+f5cBQB19+AlPZl25RAAAAAElFTkSuQmCC",
     "contentType": "image/png",
     "groupId": "0",
     "height": 20,
     "width": 20,
     "layerId": 1,
     "layerName": "2 (2).tif"
    },
    {
     "label": "Blue: Band_3",
     "imageData": "iVBORw0KGgoAAAANSUhEUgAAABQAAAAUCAYAAACNiR0NAAAACXBIWXMAAA7EAAAOxAGVKw4bAAAAPElEQVQ4jWNhoDJgoaGB//9TZhQjI5qB1AEsowZSDFgoNwIVjBpIOWChghkoYNRAygFSGELKMyoaSB0AAF59AlO8NYpcAAAAAElFTkSuQmCC",
     "contentType": "image/png",
     "groupId": "0",
     "height": 20,
     "width": 20,
     "layerId": 1,
     "layerName": "2 (2).tif"
    }
   ],
   "layerId": 1,
   "layerName": "2 (2).tif",
   "serviceItemId": "d3935d0f69c543bebd96b4dc7dac47ce"
  },
  {
   "id": 2,
   "name": "2 (3).tif",
   "parentLayerId": -1,
   "defaultVisibility": true,
   "subLayerIds": null,
   "minScale": 0,
   "maxScale": 0,
   "type": "Raster Layer",
   "supportsDynamicLegends": true,
   "legend": [
    {
     "label": "Red: Band_1",
     "imageData": "iVBORw0KGgoAAAANSUhEUgAAABQAAAAUCAYAAACNiR0NAAAACXBIWXMAAA7EAAAOxAGVKw4bAAAAOklEQVQ4jWNhoDJgoZmB/8GIfMAIRrR0IbUAC9VMgoJRAykHLFQwAwWMGkg5YBnBBjJCyzOqGUgtAABgfwJTnasaYgAAAABJRU5ErkJggg==",
     "contentType": "image/png",
     "groupId": "0",
     "height": 20,
     "width": 20,
     "layerId": 2,
     "layerName": "2 (3).tif"
    },
    {
     "label": "Green: Band_2",
     "imageData": "iVBORw0KGgoAAAANSUhEUgAAABQAAAAUCAYAAACNiR0NAAAACXBIWXMAAA7EAAAOxAGVKw4bAAAAPElEQVQ4je3UoQ0AMBBCUS5h/5WvpkmDhjr+AE8gIMLxH7hYSxqMgqFY0I4+oRX0Y8CQCvq9De+f5cBQB19+AlPZl25RAAAAAElFTkSuQmCC",
     "contentType": "image/png",
     "groupId": "0",
     "height": 20,
     "width": 20,
     "layerId": 2,
     "layerName": "2 (3).tif"
    },
    {
     "label": "Blue: Band_3",
     "imageData": "iVBORw0KGgoAAAANSUhEUgAAABQAAAAUCAYAAACNiR0NAAAACXBIWXMAAA7EAAAOxAGVKw4bAAAAPElEQVQ4jWNhoDJgoaGB//9TZhQjI5qB1AEsowZSDFgoNwIVjBpIOWChghkoYNRAygFSGELKMyoaSB0AAF59AlO8NYpcAAAAAElFTkSuQmCC",
     "contentType": "image/png",
     "groupId": "0",
     "height": 20,
     "width": 20,
     "layerId": 2,
     "layerName": "2 (3).tif"
    }
   ],
   "layerId": 2,
   "layerName": "2 (3).tif",
   "serviceItemId": "d3935d0f69c543bebd96b4dc7dac47ce"
  },
  {
   "id": 3,
   "name": "2 (4).tif",
   "parentLayerId": -1,
   "defaultVisibility": true,
   "subLayerIds": null,
   "minScale": 0,
   "maxScale": 0,
   "type": "Raster Layer",
   "supportsDynamicLegends": true,
   "legend": [
    {
     "label": "Red: Band_1",
     "imageData": "iVBORw0KGgoAAAANSUhEUgAAABQAAAAUCAYAAACNiR0NAAAACXBIWXMAAA7EAAAOxAGVKw4bAAAAOklEQVQ4jWNhoDJgoZmB/8GIfMAIRrR0IbUAC9VMgoJRAykHLFQwAwWMGkg5YBnBBjJCyzOqGUgtAABgfwJTnasaYgAAAABJRU5ErkJggg==",
     "contentType": "image/png",
     "groupId": "0",
     "height": 20,
     "width": 20,
     "layerId": 3,
     "layerName": "2 (4).tif"
    },
    {
     "label": "Green: Band_2",
     "imageData": "iVBORw0KGgoAAAANSUhEUgAAABQAAAAUCAYAAACNiR0NAAAACXBIWXMAAA7EAAAOxAGVKw4bAAAAPElEQVQ4je3UoQ0AMBBCUS5h/5WvpkmDhjr+AE8gIMLxH7hYSxqMgqFY0I4+oRX0Y8CQCvq9De+f5cBQB19+AlPZl25RAAAAAElFTkSuQmCC",
     "contentType": "image/png",
     "groupId": "0",
     "height": 20,
     "width": 20,
     "layerId": 3,
     "layerName": "2 (4).tif"
    },
    {
     "label": "Blue: Band_3",
     "imageData": "iVBORw0KGgoAAAANSUhEUgAAABQAAAAUCAYAAACNiR0NAAAACXBIWXMAAA7EAAAOxAGVKw4bAAAAPElEQVQ4jWNhoDJgoaGB//9TZhQjI5qB1AEsowZSDFgoNwIVjBpIOWChghkoYNRAygFSGELKMyoaSB0AAF59AlO8NYpcAAAAAElFTkSuQmCC",
     "contentType": "image/png",
     "groupId": "0",
     "height": 20,
     "width": 20,
     "layerId": 3,
     "layerName": "2 (4).tif"
    }
   ],
   "layerId": 3,
   "layerName": "2 (4).tif",
   "serviceItemId": "d3935d0f69c543bebd96b4dc7dac47ce"
  }
 ],
 "initialExtent": {
  "xmin": 568331.2331743438,
  "ymin": 379018.3054963626,
  "xmax": 570515.9154109438,
  "ymax": 380744.86450596264,
  "spatialReference": {
   "wkt": "PROJCS[\"Stereo_70\",GEOGCS[\"GCS_Dealul_Piscului_1970\",DATUM[\"D_Dealul_Piscului_1970\",SPHEROID[\"Krasovsky_1940\",6378245.0,298.3]],PRIMEM[\"Greenwich\",0.0],UNIT[\"Degree\",0.0174532925199433]],PROJECTION[\"Double_Stereographic\"],PARAMETER[\"False_Easting\",500000.0],PARAMETER[\"False_Northing\",500000.0],PARAMETER[\"Central_Meridian\",25.0],PARAMETER[\"Scale_Factor\",0.99975],PARAMETER[\"Latitude_Of_Origin\",46.0],UNIT[\"Meter\",1.0]],VERTCS[\"unknown\",VDATUM[\"unknown\"],PARAMETER[\"Vertical_Shift\",0.0],PARAMETER[\"Direction\",1.0],UNIT[\"Meter\",1.0]]"
  }
 },
 "fullExtent": {
  "xmin": 568331.2331743438,
  "ymin": 379018.3054963626,
  "xmax": 570515.9154109438,
  "ymax": 380744.86450596264,
  "spatialReference": {
   "wkt": "PROJCS[\"Stereo_70\",GEOGCS[\"GCS_Dealul_Piscului_1970\",DATUM[\"D_Dealul_Piscului_1970\",SPHEROID[\"Krasovsky_1940\",6378245.0,298.3]],PRIMEM[\"Greenwich\",0.0],UNIT[\"Degree\",0.0174532925199433]],PROJECTION[\"Double_Stereographic\"],PARAMETER[\"False_Easting\",500000.0],PARAMETER[\"False_Northing\",500000.0],PARAMETER[\"Central_Meridian\",25.0],PARAMETER[\"Scale_Factor\",0.99975],PARAMETER[\"Latitude_Of_Origin\",46.0],UNIT[\"Meter\",1.0]],VERTCS[\"unknown\",VDATUM[\"unknown\"],PARAMETER[\"Vertical_Shift\",0.0],PARAMETER[\"Direction\",1.0],UNIT[\"Meter\",1.0]]"
  }
 },
 "minScale": 0,
 "maxScale": 0,
 "exportTilesAllowed": false,
 "maxExportTilesCount": 0,
 "currentVersion": 11.0,
 "mapName": "Map1",
 "singleFusedMapCache": true,
 "type": "MapServer",
 "supportedExtensions": "",
 "capabilities": "TilesOnly,Tilemap",
 "serviceItemId": "d3935d0f69c543bebd96b4dc7dac47ce"
}
